BEGIN:VCALENDAR
VERSION:2.0
PRODID:-//TopShelf Entertainment - ECPv6.15.18//NONSGML v1.0//EN
CALSCALE:GREGORIAN
METHOD:PUBLISH
X-WR-CALNAME:TopShelf Entertainment
X-ORIGINAL-URL:https://www.topshelfentertainment.com.au
X-WR-CALDESC:Events for TopShelf Entertainment
REFRESH-INTERVAL;VALUE=DURATION:PT1H
X-Robots-Tag:noindex
X-PUBLISHED-TTL:PT1H
BEGIN:VTIMEZONE
TZID:Asia/Shanghai
BEGIN:STANDARD
TZOFFSETFROM:+0800
TZOFFSETTO:+0800
TZNAME:CST
DTSTART:20190101T000000
END:STANDARD
END:VTIMEZONE
BEGIN:VEVENT
DTSTART;TZID=Asia/Shanghai:20200829T190000
DTEND;TZID=Asia/Shanghai:20200829T220000
DTSTAMP:20260425T001305
CREATED:20200114T071648Z
LAST-MODIFIED:20200114T071648Z
UID:7941-1598727600-1598738400@www.topshelfentertainment.com.au
SUMMARY:Men In Uniform : 2020 Experience
DESCRIPTION:As if the Men In Uniform in Magic Mike wasn’t exciting enough at the movies… \nTop Shelf Entertainment presents Perth’s “Men In Uniform” an R-Rated monthly strip show on rotation\, where all you special ladies can experience your “Men In Uniform” up close and personal from the best of the Top Shelf team. Every month the theme changes. Expect – Sexy Tradies\, The Army\, The Police\, Firefighters\, The Navy and so much more. \nFor the past 10 years Top Shelf Entertainment Perth has been entertaining hen’s parties\, ladies night’s birthdays and resident live shows with their well-choreographed male performances. Top Shelf est 2009-2020. \n“When you head to a Top Shelf show you can be sure to have the night of your life”. Sandy 2015 \nEach monthly show is themed to create a tantalizing story where all your secret fantasies can be performed for you live on stage taking each show to another level \nThe Top Shelf Boyz are FIT RIPPED and professionally TRAINED to bring sexy back… not just your average stripper off the street. \nSo ladies\, the ultimate “Men In Uniform” has arrived\, pick your show/venue\, get dressed up\, get the girls and pop the champagne! Top Shelf Entertainment’s “Men In Uniform” is going to show you the time of your life. \nSO WHAT’S INCLUDED? \nTypes of Perth tickets: \nVIP (limited) – Enjoy VIP line access where upon arrival you will be greeted by a sexy Top Shelf waiters who will usher you to your seat (side of stage of course) and serve you your complementary glass of champagne. Your VIP ticket will also give you access to meet your favourite performers.  Please note there are only 50 of these VIP tickets available so get in quick these usually sell out. \nGeneral Admin – Enjoy the show from the dance floor\, with high tables for your drinks and limited seating across the venue all you need to bring are your dancing shoes. \nThe show may be over\, but your night out with the ladies is just beginning… you and the ladies receive free entry into the “ Metropolis Fremantle” nightclub.
URL:https://www.topshelfentertainment.com.au/ladies-nights-strip-show/men-in-uniform-2020-experience-4/
LOCATION:Metropolis Fremantle\, 58 South Terrace\, Fremantle \, Perth\, Western Australia\, 6160\, Australia
CATEGORIES:Perth
END:VEVENT
END:VCALENDAR